BEGIN:VCALENDAR
VERSION:2.0
PRODID:-//Franks Drechselkeller - ECPv6.15.20//NONSGML v1.0//EN
CALSCALE:GREGORIAN
METHOD:PUBLISH
X-ORIGINAL-URL:https://www.franks-drechselkeller.de
X-WR-CALDESC:Veranstaltungen für Franks Drechselkeller
REFRESH-INTERVAL;VALUE=DURATION:PT1H
X-Robots-Tag:noindex
X-PUBLISHED-TTL:PT1H
BEGIN:VTIMEZONE
TZID:Europe/Berlin
BEGIN:DAYLIGHT
TZOFFSETFROM:+0100
TZOFFSETTO:+0200
TZNAME:CEST
DTSTART:20200329T010000
END:DAYLIGHT
BEGIN:STANDARD
TZOFFSETFROM:+0200
TZOFFSETTO:+0100
TZNAME:CET
DTSTART:20201025T010000
END:STANDARD
BEGIN:DAYLIGHT
TZOFFSETFROM:+0100
TZOFFSETTO:+0200
TZNAME:CEST
DTSTART:20210328T010000
END:DAYLIGHT
BEGIN:STANDARD
TZOFFSETFROM:+0200
TZOFFSETTO:+0100
TZNAME:CET
DTSTART:20211031T010000
END:STANDARD
BEGIN:DAYLIGHT
TZOFFSETFROM:+0100
TZOFFSETTO:+0200
TZNAME:CEST
DTSTART:20220327T010000
END:DAYLIGHT
BEGIN:STANDARD
TZOFFSETFROM:+0200
TZOFFSETTO:+0100
TZNAME:CET
DTSTART:20221030T010000
END:STANDARD
END:VTIMEZONE
BEGIN:VEVENT
DTSTART;VALUE=DATE:20210911
DTEND;VALUE=DATE:20210913
DTSTAMP:20260422T111407
CREATED:20200715T173444Z
LAST-MODIFIED:20210909T165042Z
UID:5736-1631318400-1631491199@www.franks-drechselkeller.de
SUMMARY:Annotopia Schlosspark Rotenburg
DESCRIPTION:
URL:https://www.franks-drechselkeller.de/event/annotopia-schlosspark-rotenburg/
LOCATION:Rotenburg a. d. Fulda\, Schlosspark\, Rotenburg a. d. Fulda\, 36199\, Deutschland
END:VEVENT
END:VCALENDAR