BEGIN:VCALENDAR
VERSION:2.0
PRODID:-//Franks Drechselkeller - ECPv6.15.20//NONSGML v1.0//EN
CALSCALE:GREGORIAN
METHOD:PUBLISH
X-ORIGINAL-URL:https://www.franks-drechselkeller.de
X-WR-CALDESC:Veranstaltungen für Franks Drechselkeller
REFRESH-INTERVAL;VALUE=DURATION:PT1H
X-Robots-Tag:noindex
X-PUBLISHED-TTL:PT1H
BEGIN:VTIMEZONE
TZID:Europe/Berlin
BEGIN:DAYLIGHT
TZOFFSETFROM:+0100
TZOFFSETTO:+0200
TZNAME:CEST
DTSTART:20210328T010000
END:DAYLIGHT
BEGIN:STANDARD
TZOFFSETFROM:+0200
TZOFFSETTO:+0100
TZNAME:CET
DTSTART:20211031T010000
END:STANDARD
BEGIN:DAYLIGHT
TZOFFSETFROM:+0100
TZOFFSETTO:+0200
TZNAME:CEST
DTSTART:20220327T010000
END:DAYLIGHT
BEGIN:STANDARD
TZOFFSETFROM:+0200
TZOFFSETTO:+0100
TZNAME:CET
DTSTART:20221030T010000
END:STANDARD
BEGIN:DAYLIGHT
TZOFFSETFROM:+0100
TZOFFSETTO:+0200
TZNAME:CEST
DTSTART:20230326T010000
END:DAYLIGHT
BEGIN:STANDARD
TZOFFSETFROM:+0200
TZOFFSETTO:+0100
TZNAME:CET
DTSTART:20231029T010000
END:STANDARD
END:VTIMEZONE
BEGIN:VEVENT
DTSTART;TZID=Europe/Berlin:20221126T110000
DTEND;TZID=Europe/Berlin:20221126T210000
DTSTAMP:20260421T151243
CREATED:20221006T185400Z
LAST-MODIFIED:20221006T185559Z
UID:12242-1669460400-1669496400@www.franks-drechselkeller.de
SUMMARY:Weihnachtsmarkt Hedemünden
DESCRIPTION:
URL:https://www.franks-drechselkeller.de/event/weihnachtsmarkt-hedemuenden-2/
LOCATION:Hedemünden\, Oppertor\, Hedemünden\, 34346
CATEGORIES:Weihnachtsmärkte
END:VEVENT
END:VCALENDAR